BEGIN:VCALENDAR
VERSION:2.0
PRODID:-//imago - Schule des Lebens - ECPv6.15.15//NONSGML v1.0//EN
CALSCALE:GREGORIAN
METHOD:PUBLISH
X-WR-CALNAME:imago - Schule des Lebens
X-ORIGINAL-URL:https://imago-schule.ch
X-WR-CALDESC:Veranstaltungen für imago - Schule des Lebens
REFRESH-INTERVAL;VALUE=DURATION:PT1H
X-Robots-Tag:noindex
X-PUBLISHED-TTL:PT1H
BEGIN:VTIMEZONE
TZID:Europe/Paris
BEGIN:DAYLIGHT
TZOFFSETFROM:+0100
TZOFFSETTO:+0200
TZNAME:CEST
DTSTART:20230326T010000
END:DAYLIGHT
BEGIN:STANDARD
TZOFFSETFROM:+0200
TZOFFSETTO:+0100
TZNAME:CET
DTSTART:20231029T010000
END:STANDARD
BEGIN:DAYLIGHT
TZOFFSETFROM:+0100
TZOFFSETTO:+0200
TZNAME:CEST
DTSTART:20240331T010000
END:DAYLIGHT
BEGIN:STANDARD
TZOFFSETFROM:+0200
TZOFFSETTO:+0100
TZNAME:CET
DTSTART:20241027T010000
END:STANDARD
BEGIN:DAYLIGHT
TZOFFSETFROM:+0100
TZOFFSETTO:+0200
TZNAME:CEST
DTSTART:20250330T010000
END:DAYLIGHT
BEGIN:STANDARD
TZOFFSETFROM:+0200
TZOFFSETTO:+0100
TZNAME:CET
DTSTART:20251026T010000
END:STANDARD
END:VTIMEZONE
BEGIN:VTIMEZONE
TZID:UTC
BEGIN:STANDARD
TZOFFSETFROM:+0000
TZOFFSETTO:+0000
TZNAME:UTC
DTSTART:20230101T000000
END:STANDARD
END:VTIMEZONE
BEGIN:VEVENT
DTSTART;TZID=Europe/Paris:20240613T180000
DTEND;TZID=Europe/Paris:20240613T193000
DTSTAMP:20260419T171506
CREATED:20240127T223349Z
LAST-MODIFIED:20240127T223349Z
UID:1921-1718301600-1718307000@imago-schule.ch
SUMMARY:Öffentlicher Info-Abend
DESCRIPTION:Wie ist ein Lernort aufgebaut\, der das Kind und seine Ressourcen und Interessen ins Zentrum stellt? Wie entfalten wir unsere Potenziale am besten? Wie gestalten wir starke und authentische Gemeinschaften? \nDiese und andere Fragen sind unser Antrieb bei unserem täglichen gemeinsamen Lernen. An diesem Abend lernst du uns\, unsere Räumlichkeiten sowie die Art\, wie wir miteinander umgehen kennen.
URL:https://imago-schule.ch/event/oeffentlicher-info-abend-3/
ATTACH;FMTTYPE=image/jpeg:https://imago-schule.ch/wp-content/uploads/2024/01/4.jpg
END:VEVENT
BEGIN:VEVENT
DTSTART;TZID=UTC:20240601T140000
DTEND;TZID=UTC:20240601T180000
DTSTAMP:20260419T171506
CREATED:20240301T124646Z
LAST-MODIFIED:20240519T081317Z
UID:1979-1717250400-1717264800@imago-schule.ch
SUMMARY:Veganes Kochen mit Monika
DESCRIPTION:Monika ist eine vegane Meisterköchin und eine humorvolle Persönlichkeit. Sie bekocht jeden Donnerstag die Schüler bei Imago und wir freuen uns\, hiermit Gastgeber zu sein für ihren Kochkurs. Sie wird dich in die Geheimnisse ihrer schmackhaften veganen Küche einweihen und dir viele tolle Tipps mit auf den Weg geben. \nKosten: Zwischen CHF 120-150 nach eigenem Ermessen.
URL:https://imago-schule.ch/event/veganes-kochen-mit-monika/
LOCATION:Imago – Schule des Lebens\, Grindelstrasse 9\, Bassersdorf\, 8303\, Schweiz
ATTACH;FMTTYPE=image/jpeg:https://imago-schule.ch/wp-content/uploads/2024/03/Imago-Events-Webseite-12.jpg
END:VEVENT
BEGIN:VEVENT
DTSTART;TZID=UTC:20240419T190000
DTEND;TZID=UTC:20240419T210000
DTSTAMP:20260419T171506
CREATED:20240106T005817Z
LAST-MODIFIED:20240325T111152Z
UID:1591-1713553200-1713560400@imago-schule.ch
SUMMARY:Hochsensibilität - Umgang\, Tipps und Übungen
DESCRIPTION:Hochsensibilität ist keine Krankheit\, sondern ein Segen. Betroffene sind jedoch eingeladen\, zu lernen\, damit umzugehen. Hochsensible Menschen werden öfters von Gefühlen und ganz vielen Informationen überflutet. Sie spüren so viel\, dass sie nicht mehr wissen\, wie sie all diese Eindrücke verarbeiten sollen. An diesem Anlass erhältst du wertvolle Informationen im Umgang mit Hochsensibilität und bekommst einige praktische Tipps und Übungen mit auf den Weg. Der Event ist für hochsensible Menschen und auch deren Eltern geeignet.
URL:https://imago-schule.ch/event/kindererziehung-vs-kinderbegleitung/
LOCATION:Imago – Schule des Lebens\, Grindelstrasse 9\, Bassersdorf\, 8303\, Schweiz
ATTACH;FMTTYPE=image/jpeg:https://imago-schule.ch/wp-content/uploads/2024/01/Imago-Events-Webseite-17.jpg
END:VEVENT
BEGIN:VEVENT
DTSTART;TZID=UTC:20240412T180000
DTEND;TZID=UTC:20240412T193000
DTSTAMP:20260419T171506
CREATED:20240110T102013Z
LAST-MODIFIED:20240405T185705Z
UID:1735-1712944800-1712950200@imago-schule.ch
SUMMARY:Integrative Kommunikation - Potenziale entfalten
DESCRIPTION:Wie kann ich mit meine Kinder stärken\, gleichzeitig aber auch klar und konsequent sein? Wie kann ich möglichst viele Freiheiten geben\, gleichzeitig Grenzen wahren? \nDie integrative Kommunikation von Maria Kenessey war für mich als Vater\, Führungsperson und Lernbegleiter ein Augenöffner und hat meine Art zu kommunizieren und auch die Beziehung zu Kindern sehr zum positiven verändert. \nIn diesem Workshop erhältst du eine Einführung in die integrative Kommunikation\, direkt an der Praxis und im Alltag anwendbar. \nBitte teile uns mit\, falls du Kinder mitbringst. \nKosten: zwischen CHF 30 und CHF 50 nach Selbsteinschätzung
URL:https://imago-schule.ch/event/integrative-kommunikation-potenziale-entfalten/
ATTACH;FMTTYPE=image/jpeg:https://imago-schule.ch/wp-content/uploads/2024/01/1.jpg
END:VEVENT
BEGIN:VEVENT
DTSTART;TZID=Europe/Paris:20240411T180000
DTEND;TZID=Europe/Paris:20240411T193000
DTSTAMP:20260419T171506
CREATED:20240127T222921Z
LAST-MODIFIED:20240127T222921Z
UID:1915-1712858400-1712863800@imago-schule.ch
SUMMARY:Öffentlicher Info-Abend
DESCRIPTION:Wie ist ein Lernort aufgebaut\, der das Kind und seine Ressourcen und Interessen ins Zentrum stellt? Wie entfalten wir unsere Potenziale am besten? Wie gestalten wir starke und authentische Gemeinschaften? \nDiese und andere Fragen sind unser Antrieb bei unserem täglichen gemeinsamen Lernen. An diesem Abend lernst du uns\, unsere Räumlichkeiten sowie die Art\, wie wir miteinander umgehen kennen.
URL:https://imago-schule.ch/event/oeffentlicher-info-abend/
ATTACH;FMTTYPE=image/jpeg:https://imago-schule.ch/wp-content/uploads/2024/01/3.jpg
ORGANIZER;CN="Imago - Schule des Lebens":MAILTO:info@imago-schule.ch
END:VEVENT
BEGIN:VEVENT
DTSTART;TZID=UTC:20240321T114500
DTEND;TZID=UTC:20240321T123000
DTSTAMP:20260419T171506
CREATED:20240319T074909Z
LAST-MODIFIED:20240325T110711Z
UID:2059-1711021500-1711024200@imago-schule.ch
SUMMARY:Chez Monika: Ghackts mit Hörnli und Öpfelmues
DESCRIPTION:Vegane Spitzenköchin Monika Akeret verwöhnt neu auch externe Gäste im Take-Away.
URL:https://imago-schule.ch/event/chez-monika-kartoffelgratin-mit-ofengemuese-bouquet/
LOCATION:Imago – Schule des Lebens\, Grindelstrasse 9\, Bassersdorf\, 8303\, Schweiz
ATTACH;FMTTYPE=image/jpeg:https://imago-schule.ch/wp-content/uploads/2024/03/Imago-Events-Webseite-16.jpg
END:VEVENT
BEGIN:VEVENT
DTSTART;TZID=Europe/Paris:20240315T190000
DTEND;TZID=Europe/Paris:20240315T210000
DTSTAMP:20260419T171506
CREATED:20240106T005646Z
LAST-MODIFIED:20240111T182500Z
UID:1588-1710529200-1710536400@imago-schule.ch
SUMMARY:Diagnose ADHS
DESCRIPTION:Eine wachsende Anzahl an Kindern und Jugendlichen erhalten aktuell die Diagnose ADHS. Was ist ADHS genau? Wodurch kann es ausgelöst werden? Welche Einflussfaktoren gibt es? Muss ich meinem Kind jetzt Ritalin verabreichen oder gibt es Alternativen? Diese und weitere Fragen werden an diesem Abend beantwortet. Eine erfrischend andere Sichtweise kombiniert mit praktischen Tipps.
URL:https://imago-schule.ch/event/adhs/
LOCATION:Imago – Schule des Lebens\, Grindelstrasse 9\, Bassersdorf\, 8303\, Schweiz
ATTACH;FMTTYPE=image/jpeg:https://imago-schule.ch/wp-content/uploads/2024/01/Imago-Events-Webseite-2.jpg
END:VEVENT
BEGIN:VEVENT
DTSTART;TZID=UTC:20240314T114500
DTEND;TZID=UTC:20240314T123000
DTSTAMP:20260419T171506
CREATED:20240308T071100Z
LAST-MODIFIED:20240308T071358Z
UID:2037-1710416700-1710419400@imago-schule.ch
SUMMARY:Mittagessen chez Monika: Vegane Bolognese
DESCRIPTION:Schmackhaft\, vegan und gesund. Monika öffnet jeweils am Donnerstag ihre Küche für Menschen ausserhalb der Schule. Diesen Donnerstag: Vegane Bolognese und Salat. Einfach hier reservieren bis zum Dienstagabend und das Mittagessen ab 11.45 abholen. \nDas Mittagessen kostet CHF 13.50.
URL:https://imago-schule.ch/event/mittagessen-chez-monika-vegane-bolognese/
ATTACH;FMTTYPE=image/jpeg:https://imago-schule.ch/wp-content/uploads/2024/03/Imago-Events-Webseite-11.jpg
END:VEVENT
BEGIN:VEVENT
DTSTART;TZID=UTC:20240307T114500
DTEND;TZID=UTC:20240307T124500
DTSTAMP:20260419T171506
CREATED:20240302T194812Z
LAST-MODIFIED:20240302T195009Z
UID:2022-1709811900-1709815500@imago-schule.ch
SUMMARY:Mittagessen Chez Monika: Veganes Stroganoff
DESCRIPTION:Schmackhaft\, vegan und gesund. Monika öffnet jeweils am Donnerstag ihre Küche für Menschen ausserhalb der Schule. Diesen Donnerstag: Veganes Stroganoff mit Reis und Salat. Einfach hier reservieren bis zum Dienstagabend und das Mittagessen ab 11.45 abholen. \nDas Mittagessen kostet CHF 13.50.
URL:https://imago-schule.ch/event/mittagessen-chez-monika-veganes-stroganoff/
ATTACH;FMTTYPE=image/jpeg:https://imago-schule.ch/wp-content/uploads/2024/03/Imago-Events-Webseite-7.jpg
END:VEVENT
BEGIN:VEVENT
DTSTART;TZID=Europe/Paris:20240216T190000
DTEND;TZID=Europe/Paris:20240216T210000
DTSTAMP:20260419T171506
CREATED:20240106T004829Z
LAST-MODIFIED:20240111T201118Z
UID:1586-1708110000-1708117200@imago-schule.ch
SUMMARY:Hochsensibilität
DESCRIPTION:Hochsensibilität ist keine Krankheit\, sondern ein Segen. Betroffene sind jedoch eingeladen\, zu lernen\, damit umzugehen. Hochsensible Menschen werden öfters von Gefühlen und ganz vielen Informationen überflutet. Sie spüren so viel\, dass sie nicht mehr wissen\, wie sie all diese Eindrücke verarbeiten sollen. An diesem Anlass erhältst du wertvolle Informationen im Umgang mit Hochsensibilität und bekommst einige praktische Tipps und Übungen mit auf den Weg. Der Event ist für hochsensible Menschen und auch deren Eltern geeignet.
URL:https://imago-schule.ch/event/hochsensibilitaet/
LOCATION:Imago – Schule des Lebens\, Grindelstrasse 9\, Bassersdorf\, 8303\, Schweiz
ATTACH;FMTTYPE=image/jpeg:https://imago-schule.ch/wp-content/uploads/2024/01/Imago-Events-Webseite-3.jpg
END:VEVENT
BEGIN:VEVENT
DTSTART;TZID=Europe/Paris:20240211T100000
DTEND;TZID=Europe/Paris:20240211T130000
DTSTAMP:20260419T171506
CREATED:20240106T011358Z
LAST-MODIFIED:20240110T103451Z
UID:1593-1707645600-1707656400@imago-schule.ch
SUMMARY:Sonntags-Brunch bei Imago
DESCRIPTION:Wir laden ein zu einem Sonntagsbrunch an unserer Schule. Die Kinder können miteinander spielen\, sich bewegen und kreativ sein\, während die Erwachsenen sich bei Tee und Kaffee austauschen können. Dabei lernt ihr unsere Schule und unsere Räumlichkeiten kennen. \nJede Familie bringt etwas für’s Buffet mit und wir teilen. \nAnmeldung bitte per Mail an info(a)imago-schule.ch
URL:https://imago-schule.ch/event/sonntags-brunch-bei-imago/
LOCATION:Imago – Schule des Lebens\, Grindelstrasse 9\, Bassersdorf\, 8303\, Schweiz
ATTACH;FMTTYPE=image/jpeg:https://imago-schule.ch/wp-content/uploads/2024/01/Imago-Events-Webseite-1.jpg
ORGANIZER;CN="Imago - Schule des Lebens":MAILTO:info@imago-schule.ch
END:VEVENT
END:VCALENDAR